BEGIN:VCALENDAR
VERSION:2.0
PRODID:-//The Guild - ECPv6.15.18//NONSGML v1.0//EN
CALSCALE:GREGORIAN
METHOD:PUBLISH
X-ORIGINAL-URL:https://www.theguild.community
X-WR-CALDESC:Events for The Guild
REFRESH-INTERVAL;VALUE=DURATION:PT1H
X-Robots-Tag:noindex
X-PUBLISHED-TTL:PT1H
BEGIN:VTIMEZONE
TZID:America/New_York
BEGIN:DAYLIGHT
TZOFFSETFROM:-0500
TZOFFSETTO:-0400
TZNAME:EDT
DTSTART:20230312T070000
END:DAYLIGHT
BEGIN:STANDARD
TZOFFSETFROM:-0400
TZOFFSETTO:-0500
TZNAME:EST
DTSTART:20231105T060000
END:STANDARD
BEGIN:DAYLIGHT
TZOFFSETFROM:-0500
TZOFFSETTO:-0400
TZNAME:EDT
DTSTART:20240310T070000
END:DAYLIGHT
BEGIN:STANDARD
TZOFFSETFROM:-0400
TZOFFSETTO:-0500
TZNAME:EST
DTSTART:20241103T060000
END:STANDARD
BEGIN:DAYLIGHT
TZOFFSETFROM:-0500
TZOFFSETTO:-0400
TZNAME:EDT
DTSTART:20250309T070000
END:DAYLIGHT
BEGIN:STANDARD
TZOFFSETFROM:-0400
TZOFFSETTO:-0500
TZNAME:EST
DTSTART:20251102T060000
END:STANDARD
END:VTIMEZONE
BEGIN:VEVENT
DTSTART;TZID=America/New_York:20240801T173000
DTEND;TZID=America/New_York:20240801T200000
DTSTAMP:20260424T070026
CREATED:20240619T200221Z
LAST-MODIFIED:20250327T132358Z
UID:10000019-1722533400-1722542400@www.theguild.community
SUMMARY:Stewardship & Governance
DESCRIPTION:In this session\, attendees will learn about and engage in various models of cooperative and community governance. You’ll explore the Community Stewardship Trust’s (CST) governance model and practices and learn about about challenges and solutions for collectively stewarding real estate properties. \n\n\n\nLEARNING GOALS:\n\n\n\n\nDescribe the purpose of governance and link this purpose to the goals of the CST\n\n\n\nConsider and describe various governance models\, including cooperative or community governance \n\n\n\nDescribe the governance model of the CST and understand how the CST embodies cooperative or community governance\n\n\n\nName and consider factors that may make cooperative governance challenging\, as well as strategies for overcoming them\n\n\n\n\nFACILITATORS:\n\n\n\nKiyomi Rollins – Founder\, Kenekt CooperativeJulian Hill – Asst. Professor of Law\, Community Development & Entrepreneurship Law Clinic\, Georgia State University \n\n\n\nDinner will be provided at 5:30\, session begins promptly at 6:00 pm.  \n\n\n\nTo protect our community\, masks will be required for all attendees during the workshop. Thank you for your cooperation in keeping everyone safe. \n\n\n\n\n\n\n\nLOCATION:\n\n\n\n\n\n\n\nTo ensure these classes are financially accessible to everyone\, free tickets to all sessions are available on request. Please email us at cst@theguild.community to request a free ticket and/or to inform us of any accessibility needs.
URL:https://www.theguild.community/event/stewardship-governance/
LOCATION:CreateATL\, 900 Murphy Ave SW\, Atlanta\, Georgia\, 30310\, United States
CATEGORIES:Solidarity Series,CST Leadership Series
ATTACH;FMTTYPE=image/png:https://www.theguild.community/wp-content/uploads/2024/06/8.png
END:VEVENT
END:VCALENDAR