BEGIN:VCALENDAR
VERSION:2.0
PRODID:-//The Guild - ECPv6.15.18//NONSGML v1.0//EN
CALSCALE:GREGORIAN
METHOD:PUBLISH
X-WR-CALNAME:The Guild
X-ORIGINAL-URL:https://www.theguild.community
X-WR-CALDESC:Events for The Guild
REFRESH-INTERVAL;VALUE=DURATION:PT1H
X-Robots-Tag:noindex
X-PUBLISHED-TTL:PT1H
BEGIN:VTIMEZONE
TZID:America/New_York
BEGIN:DAYLIGHT
TZOFFSETFROM:-0500
TZOFFSETTO:-0400
TZNAME:EDT
DTSTART:20230312T070000
END:DAYLIGHT
BEGIN:STANDARD
TZOFFSETFROM:-0400
TZOFFSETTO:-0500
TZNAME:EST
DTSTART:20231105T060000
END:STANDARD
BEGIN:DAYLIGHT
TZOFFSETFROM:-0500
TZOFFSETTO:-0400
TZNAME:EDT
DTSTART:20240310T070000
END:DAYLIGHT
BEGIN:STANDARD
TZOFFSETFROM:-0400
TZOFFSETTO:-0500
TZNAME:EST
DTSTART:20241103T060000
END:STANDARD
BEGIN:DAYLIGHT
TZOFFSETFROM:-0500
TZOFFSETTO:-0400
TZNAME:EDT
DTSTART:20250309T070000
END:DAYLIGHT
BEGIN:STANDARD
TZOFFSETFROM:-0400
TZOFFSETTO:-0500
TZNAME:EST
DTSTART:20251102T060000
END:STANDARD
END:VTIMEZONE
BEGIN:VEVENT
DTSTART;TZID=America/New_York:20240720T113000
DTEND;TZID=America/New_York:20240720T141500
DTSTAMP:20260424T130004
CREATED:20240619T200256Z
LAST-MODIFIED:20250327T132547Z
UID:10000017-1721475000-1721484900@www.theguild.community
SUMMARY:An Introduction to The Solidarity Economy
DESCRIPTION:The Solidarity Economy is a global movement to build a more fair\, more sustainable economy. It’s an alternative to the dominant capitalism\, where people and the planet are valued more than financial profit and communities organize themselves around shared values of democracy\, cooperative ownership\, and mutual respect for each other and the earth. In this session\, you’ll engage with local examples of the Solidarity Economy in Atlanta and beyond\, including the Guild’s Community Stewardship Trust\, and explore how it can reflect your values and benefits for your local community. \n\n\n\nLEARNING GOALS:\n\n\n\n\nName the key components of the dominant economic system and values associated with it. \n\n\n\nIdentify values you wish to see reflected in your community and notice the differences and similarities with the dominant economic system.\n\n\n\nUnderstand and describe the solidarity economy as a framework for challenging the dominant economic system rooted in alternative values. \n\n\n\nUnderstand how these alternative values show up in examples of solidarity economy\, and list some key ingredients for successful solidarity economy projects.\n\n\n\nExplore\, compare\, contrast\, and name benefits of the solidarity economy\, including examples you relate to\, are aware of\, and/or already practice.\n\n\n\n\nLunch will be provided at 11:30\, session begins promptly at 12:00 pm. \n\n\n\nFACILITATORS:\n\n\n\nKiyomi Rollins – Founder\, Kenekt CooperativeJulian Hill – Asst. Professor of Law\, Community Development & Entrepreneurship Law Clinic Georgia State University \n\n\n\nVENUE:\n\n\n\n\n\nTo ensure these classes are financially accessible to everyone\, free tickets to all sessions are available on request. Please email us at cst@theguild.community to request a free ticket and/or to inform us of any accessibility needs.
URL:https://www.theguild.community/event/intro-solidarity-economy/
LOCATION:Kenekt Cooperative\, 1492 Ralph David Abernathy Blvd.\, Atlanta\, Georgia\, 30310\, United States
CATEGORIES:Solidarity Series,CST Leadership Series
ATTACH;FMTTYPE=image/png:https://www.theguild.community/wp-content/uploads/2024/06/2.png
END:VEVENT
BEGIN:VEVENT
DTSTART;TZID=America/New_York:20240713T100000
DTEND;TZID=America/New_York:20240713T120000
DTSTAMP:20260424T130004
CREATED:20240625T225425Z
LAST-MODIFIED:20240707T021354Z
UID:10000023-1720864800-1720872000@www.theguild.community
SUMMARY:Healing our Lands
DESCRIPTION:Capitol View\, like many Black and brown communities\, has been subject to ongoing environmental racism that has polluted the land. We knew when we purchased the open lot on dill for the Community Stewardship Trust that the soil was contaminated. \n\n\n\nWe’re working with @liberationarchitect to make this space healthier by planting sunflowers—native plants that remove toxins and heavy metals and rebalance soil ecology.Join us in helping to heal the block!
URL:https://www.theguild.community/event/healing-our-lands/
LOCATION:Georgia
ATTACH;FMTTYPE=image/jpeg:https://www.theguild.community/wp-content/uploads/2024/06/sunflowers-63fe51093f04d.jpg
END:VEVENT
BEGIN:VEVENT
DTSTART;TZID=America/New_York:20240511T150000
DTEND;TZID=America/New_York:20240511T180000
DTSTAMP:20260424T130004
CREATED:20240406T013348Z
LAST-MODIFIED:20240410T141101Z
UID:10000014-1715439600-1715450400@www.theguild.community
SUMMARY:The WayBack: A Community Block Party
DESCRIPTION:Come make something great! Kick back with The Guild at 890 Dill and let’s co-create our future while we celebrate the past.
URL:https://www.theguild.community/event/the-wayback-a-community-block-party/
LOCATION:890 Dill Ave\, 890 Dill Ave SW\, Atlanta\, Georgia\, 300310\, United States
END:VEVENT
BEGIN:VEVENT
DTSTART;TZID=America/New_York:20240427T110000
DTEND;TZID=America/New_York:20240427T150000
DTSTAMP:20260424T130004
CREATED:20240229T160209Z
LAST-MODIFIED:20240410T141005Z
UID:10000012-1714215600-1714230000@www.theguild.community
SUMMARY:Capitol View Neighborhood Bike Tour
DESCRIPTION:Bike with us through Capitol View & learn about the history of the neighborhood from legacy residents!
URL:https://www.theguild.community/event/ddtour-424/
LOCATION:Perkerson Park\, 770 Deckner Ave SW\, Atlanta\, Georgia\, 30310\, United States
ATTACH;FMTTYPE=image/jpeg:https://www.theguild.community/wp-content/uploads/2024/02/image_123650291.jpg
END:VEVENT
BEGIN:VEVENT
DTSTART;TZID=America/New_York:20240420T150000
DTEND;TZID=America/New_York:20240420T170000
DTSTAMP:20260424T130004
CREATED:20240229T160115Z
LAST-MODIFIED:20240415T160544Z
UID:10000011-1713625200-1713632400@www.theguild.community
SUMMARY:One Photo At A Time
DESCRIPTION:ONE PHOTO AT A TIME: MEMORY WORK LAB \n\n\n\nA workshop in collaboration with The Guild \n\n\n\nAPRIL 13\, 3 PM – 5 PM \n\n\n\nTHE SPOT ON DILL \n\n\n\nHow can an intentional choice to make memories lead to preserving them in both print and digital forms? \n\n\n\nPersonal archiving can seem like an overwhelming feat for some and a general pastime for others. Just like It is a responsibility of the community at large to remind each other that it is a practice that takes time and commitment. If you focus on One Photo At a Time\, one day you’ll look up and have archived more than you would have imagined. \n\n\n\nThis workshop is led by Atlanta-based artist-archivist Sierra King. It is free and open to the public\, but has limited capacity and requires registration.
URL:https://www.theguild.community/event/onephoto/
LOCATION:The Spot on Dill\, 900 Dill Avenue SW\, Atlanta\, Georgia\, 30310\, United States
ATTACH;FMTTYPE=image/png:https://www.theguild.community/wp-content/uploads/2024/02/One-Photo-At-A-Time-9.png
END:VEVENT
END:VCALENDAR